BEGIN:VCALENDAR
VERSION:2.0
PRODID:-//Turchin Center for the Visual Arts - ECPv6.15.20//NONSGML v1.0//EN
CALSCALE:GREGORIAN
METHOD:PUBLISH
X-WR-CALNAME:Turchin Center for the Visual Arts
X-ORIGINAL-URL:https://tcva.appstate.edu
X-WR-CALDESC:Events for Turchin Center for the Visual Arts
REFRESH-INTERVAL;VALUE=DURATION:PT1H
X-Robots-Tag:noindex
X-PUBLISHED-TTL:PT1H
BEGIN:VTIMEZONE
TZID:America/New_York
BEGIN:DAYLIGHT
TZOFFSETFROM:-0500
TZOFFSETTO:-0400
TZNAME:EDT
DTSTART:20250309T070000
END:DAYLIGHT
BEGIN:STANDARD
TZOFFSETFROM:-0400
TZOFFSETTO:-0500
TZNAME:EST
DTSTART:20251102T060000
END:STANDARD
BEGIN:DAYLIGHT
TZOFFSETFROM:-0500
TZOFFSETTO:-0400
TZNAME:EDT
DTSTART:20260308T070000
END:DAYLIGHT
BEGIN:STANDARD
TZOFFSETFROM:-0400
TZOFFSETTO:-0500
TZNAME:EST
DTSTART:20261101T060000
END:STANDARD
BEGIN:DAYLIGHT
TZOFFSETFROM:-0500
TZOFFSETTO:-0400
TZNAME:EDT
DTSTART:20270314T070000
END:DAYLIGHT
BEGIN:STANDARD
TZOFFSETFROM:-0400
TZOFFSETTO:-0500
TZNAME:EST
DTSTART:20271107T060000
END:STANDARD
END:VTIMEZONE
BEGIN:VEVENT
DTSTART;TZID=America/New_York:20260422T140000
DTEND;TZID=America/New_York:20260422T140000
DTSTAMP:20260422T053131
CREATED:20260330T204506Z
LAST-MODIFIED:20260407T174812Z
UID:10001807-1776866400-1776866400@tcva.appstate.edu
SUMMARY:Earth Week Campus Visit and Discussion: Etienne Charles
DESCRIPTION:Open to Community Members: \nApp State’s Arts Engagement and Cultural Resources will host Etienne Charles\, award-winning Trinidadian trumpeter\, composer and climate storyteller\, on campus during Earth Week 2026  \nDuring his time in Boone\, Etienne Charles will speak with classes across the university and connect with our community. His visit will culminate in a performance of his latest composition\, Earth Tones\, a multimedia jazz performance featuring original compositions that draw attention to people and regions that are\, or soon will be\, significantly affected by climate change. Learn about his work using music as a mode for understanding and communicating climate stories: \n\nWednesday\, April 22: 2:00-2:50 PM session in PSU 137 ABC Grandfather Mountain Ballroom\nThursday\, April 23: 9:30-10:45 AM session in PSU 420 Parkway Ballroom\n\nThe Earth Tones performance\, scheduled for the evening of Friday\, April 24th at Schaefer Center for the Performing Arts\, invites us into a sensory journey that includes sounds\, stories\, and musical idioms from across the globe. \nEarth Tones is supported in part by the App State Pathways to Resilience QEP\, Creative Capital and the North Carolina Arts Council. \n 
URL:https://tcva.appstate.edu/event/earth-week-campus-visit-and-discussion-etienne-charles/2026-04-22/
LOCATION:Plemmons Student Union\, 263 Locust St\, Boone\, NC\, 28608
CATEGORIES:Workshop
ATTACH;FMTTYPE=image/jpeg:https://tcva.appstate.edu/wp-content/uploads/2026/03/Etienne-Charles-portrait.jpg
END:VEVENT
END:VCALENDAR